BEGIN:VCALENDAR
VERSION:2.0
PRODID:-//ChamberMaster//Event Calendar 2.0//EN
METHOD:PUBLISH
X-PUBLISHED-TTL:P3D
REFRESH-INTERVAL:P3D
CALSCALE:GREGORIAN
BEGIN:VEVENT
DTSTART:20190424T180000Z
DTEND:20190424T210000Z
X-MICROSOFT-CDO-ALLDAYEVENT:FALSE
SUMMARY:Take-A-Ticket
DESCRIPTION:Do you have question regarding technology? Sign up for a 30-minute tutor session with Scenic Regional Library's trainer. Bring your device and your questions! RSVP today for a 30-minute session: Call 636.629.2546 or stop by the branch.
X-ALT-DESC;FMTTYPE=text/html:Do you have question regarding technology? Sign up for a 30-minute tutor session with Scenic Regional Library&#39\;s trainer. Bring your device and your questions! RSVP today for a 30-minute session: Call 636.629.2546 or stop by the branch.&nbsp\;
LOCATION:
UID:e.1516.6461
SEQUENCE:3
DTSTAMP:20260425T121631Z
URL:http://stclairmo.chambermaster.com/events/details/take-a-ticket-6461
END:VEVENT

END:VCALENDAR
